BEGIN:VCALENDAR
VERSION:2.0
PRODID:-//jEvents 2.0 for Joomla//EN
CALSCALE:GREGORIAN
METHOD:PUBLISH
BEGIN:VEVENT
UID:91e709d5fe0256a5d446369e891158f3
CATEGORIES:Abt. Riedlingen
CREATED:20260111T190655
SUMMARY:Übung
DESCRIPTION:
DTSTAMP:20260422T121236
DTSTART:20260611T170000
SEQUENCE:0
TRANSP:OPAQUE
END:VEVENT
END:VCALENDAR