BEGIN:VCALENDAR
VERSION:2.0
PRODID:-//jEvents 2.0 for Joomla//EN
CALSCALE:GREGORIAN
METHOD:PUBLISH
BEGIN:VEVENT
UID:0dd2cde606f507843ca5d63216902b2f
CATEGORIES:Abt. Riedlingen
CREATED:20260111T190618
SUMMARY:Übung
DESCRIPTION:
DTSTAMP:20260420T161834
DTSTART:20260507T170000
SEQUENCE:0
TRANSP:OPAQUE
END:VEVENT
END:VCALENDAR