BEGIN:VCALENDAR
VERSION:2.0
PRODID:-//jEvents 2.0 for Joomla//EN
CALSCALE:GREGORIAN
METHOD:PUBLISH
BEGIN:VEVENT
UID:3f8239176a810a5ef33aa50b5d4eb0a4
CATEGORIES:Abt. Riedlingen
CREATED:20260111T190549
SUMMARY:Maibaum holen
DESCRIPTION:
DTSTAMP:20260420T102118
DTSTART;VALUE=DATE:20260429
DTEND;VALUE=DATE:20260430
SEQUENCE:0
TRANSP:OPAQUE
END:VEVENT
END:VCALENDAR