BEGIN:VCALENDAR
VERSION:2.0
PRODID:-//jEvents 2.0 for Joomla//EN
CALSCALE:GREGORIAN
METHOD:PUBLISH
BEGIN:VEVENT
UID:d485893018626aba65e4bd1bb1d1bd4b
CATEGORIES:Abt. Riedlingen
CREATED:20260111T190523
SUMMARY:Übung LZ3
DESCRIPTION:
DTSTAMP:20260420T151446
DTSTART:20260417T170000
SEQUENCE:0
TRANSP:OPAQUE
END:VEVENT
END:VCALENDAR