BEGIN:VCALENDAR
VERSION:2.0
PRODID:-//jEvents 2.0 for Joomla//EN
CALSCALE:GREGORIAN
METHOD:PUBLISH
BEGIN:VEVENT
UID:1fc39ee714fb50b7b892453de23caceb
CATEGORIES:Abt. Riedlingen
CREATED:20260111T190419
SUMMARY:Schrottsammlung
DESCRIPTION:
DTSTAMP:20260420T171451
DTSTART;VALUE=DATE:20260314
DTEND;VALUE=DATE:20260315
SEQUENCE:0
TRANSP:OPAQUE
END:VEVENT
END:VCALENDAR