BEGIN:VCALENDAR
VERSION:2.0
PRODID:-//jEvents 2.0 for Joomla//EN
CALSCALE:GREGORIAN
METHOD:PUBLISH
BEGIN:VEVENT
UID:d1c7dd56bac87316d33d578c97fe517c
CATEGORIES:Abt. Riedlingen
CREATED:20260111T185804
SUMMARY:Übung
DESCRIPTION:
DTSTAMP:20260420T082150
DTSTART:20260108T180000
SEQUENCE:0
TRANSP:OPAQUE
END:VEVENT
END:VCALENDAR