BEGIN:VCALENDAR
VERSION:2.0
PRODID:-//jEvents 2.0 for Joomla//EN
CALSCALE:GREGORIAN
METHOD:PUBLISH
BEGIN:VEVENT
UID:6e97b1a0d3750145846af9494da23338
CATEGORIES:Abt. Holzen
CREATED:20251214T110418
SUMMARY:Cego
DESCRIPTION:
DTSTAMP:20260424T152247
DTSTART;VALUE=DATE:20261120
DTEND;VALUE=DATE:20261121
SEQUENCE:0
TRANSP:OPAQUE
END:VEVENT
END:VCALENDAR