BEGIN:VCALENDAR
VERSION:2.0
PRODID:-//jEvents 2.0 for Joomla//EN
CALSCALE:GREGORIAN
METHOD:PUBLISH
BEGIN:VEVENT
UID:1b84c4ee583c5b7e8c0b10d33f0221c4
CATEGORIES:Abt. Holzen
CREATED:20251214T110358
SUMMARY:Ausschusssitzung
DESCRIPTION:
DTSTAMP:20260422T112331
DTSTART;VALUE=DATE:20261112
DTEND;VALUE=DATE:20261113
SEQUENCE:0
TRANSP:OPAQUE
END:VEVENT
END:VCALENDAR