BEGIN:VCALENDAR
VERSION:2.0
PRODID:-//jEvents 2.0 for Joomla//EN
CALSCALE:GREGORIAN
METHOD:PUBLISH
BEGIN:VEVENT
UID:b93e13e6eecf0ee288a5c472cdbb1dcb
CATEGORIES:Abt. Holzen
CREATED:20251214T110302
SUMMARY:Maschinistenübung
DESCRIPTION:
DTSTAMP:20260424T124251
DTSTART;VALUE=DATE:20261016
DTEND;VALUE=DATE:20261017
SEQUENCE:0
TRANSP:OPAQUE
END:VEVENT
END:VCALENDAR