BEGIN:VCALENDAR
VERSION:2.0
PRODID:-//jEvents 2.0 for Joomla//EN
CALSCALE:GREGORIAN
METHOD:PUBLISH
BEGIN:VEVENT
UID:5ac64bb9321ca4e159b99a323381d61a
CATEGORIES:Abt. Holzen
CREATED:20251214T110212
SUMMARY:Spalier stehen
DESCRIPTION:
DTSTAMP:20260420T184218
DTSTART;VALUE=DATE:20261010
DTEND;VALUE=DATE:20261011
SEQUENCE:0
TRANSP:OPAQUE
END:VEVENT
END:VCALENDAR