BEGIN:VCALENDAR
VERSION:2.0
PRODID:-//jEvents 2.0 for Joomla//EN
CALSCALE:GREGORIAN
METHOD:PUBLISH
BEGIN:VEVENT
UID:cf8061473fabf8b451dd6124520bb492
CATEGORIES:Abt. Holzen
CREATED:20251214T110021
SUMMARY:Frühstück
DESCRIPTION:
DTSTAMP:20260420T140440
DTSTART;VALUE=DATE:20260927
DTEND;VALUE=DATE:20260928
SEQUENCE:0
TRANSP:OPAQUE
END:VEVENT
END:VCALENDAR