BEGIN:VCALENDAR
VERSION:2.0
PRODID:-//jEvents 2.0 for Joomla//EN
CALSCALE:GREGORIAN
METHOD:PUBLISH
BEGIN:VEVENT
UID:324336174f9e46c02ba5f8cb030caa9e
CATEGORIES:Abt. Holzen
CREATED:20251214T110004
SUMMARY:Ausschusssitzung
DESCRIPTION:
DTSTAMP:20260420T201455
DTSTART;VALUE=DATE:20260723
DTEND;VALUE=DATE:20260724
SEQUENCE:0
TRANSP:OPAQUE
END:VEVENT
END:VCALENDAR