BEGIN:VCALENDAR
VERSION:2.0
PRODID:-//jEvents 2.0 for Joomla//EN
CALSCALE:GREGORIAN
METHOD:PUBLISH
BEGIN:VEVENT
UID:47f3fa7cca9e5d8cf9e9e9e041ae5498
CATEGORIES:Abt. Holzen
CREATED:20251214T105943
SUMMARY:Abbau Dorfhock
DESCRIPTION:
DTSTAMP:20260420T101014
DTSTART;VALUE=DATE:20260706
DTEND;VALUE=DATE:20260707
SEQUENCE:0
TRANSP:OPAQUE
END:VEVENT
END:VCALENDAR