BEGIN:VCALENDAR
VERSION:2.0
PRODID:-//jEvents 2.0 for Joomla//EN
CALSCALE:GREGORIAN
METHOD:PUBLISH
BEGIN:VEVENT
UID:0cf76b2d1e651ea4235e8bd415c2a4c1
CATEGORIES:Abt. Holzen
CREATED:19700101T010000
SUMMARY:Dorfhock
DESCRIPTION:
DTSTAMP:20260420T131152
DTSTART;VALUE=DATE:20260704
DTEND;VALUE=DATE:20260705
SEQUENCE:0
RRULE:FREQ=DAILY;UNTIL=20260705T000000Z;INTERVAL=1
TRANSP:OPAQUE
END:VEVENT
END:VCALENDAR