BEGIN:VCALENDAR
VERSION:2.0
PRODID:-//jEvents 2.0 for Joomla//EN
CALSCALE:GREGORIAN
METHOD:PUBLISH
BEGIN:VEVENT
UID:4e626da1b67d2ec05ba1de0004952dc6
CATEGORIES:Abt. Holzen
CREATED:20251214T105804
SUMMARY:Maschinistenübung
DESCRIPTION:
DTSTAMP:20260422T142835
DTSTART;VALUE=DATE:20260516
DTEND;VALUE=DATE:20260517
SEQUENCE:0
TRANSP:OPAQUE
END:VEVENT
END:VCALENDAR