BEGIN:VCALENDAR
VERSION:2.0
PRODID:-//jEvents 2.0 for Joomla//EN
CALSCALE:GREGORIAN
METHOD:PUBLISH
BEGIN:VEVENT
UID:18849ae5f0571aea80dd01f02f7ee8b8
CATEGORIES:Abt. Holzen
CREATED:20251214T105715
SUMMARY:Ausschusssitzung
DESCRIPTION:
DTSTAMP:20260420T114226
DTSTART;VALUE=DATE:20260416
DTEND;VALUE=DATE:20260417
SEQUENCE:0
TRANSP:OPAQUE
END:VEVENT
END:VCALENDAR