BEGIN:VCALENDAR
VERSION:2.0
PRODID:-//jEvents 2.0 for Joomla//EN
CALSCALE:GREGORIAN
METHOD:PUBLISH
BEGIN:VEVENT
UID:15020aeefbd3121212deb3cf09a844d8
CATEGORIES:Abt. Holzen
CREATED:20251214T105351
SUMMARY:Holzversteigerung
DESCRIPTION:
DTSTAMP:20260422T183859
DTSTART;VALUE=DATE:20260124
DTEND;VALUE=DATE:20260125
SEQUENCE:0
TRANSP:OPAQUE
END:VEVENT
END:VCALENDAR