BEGIN:VCALENDAR
VERSION:2.0
PRODID:-//jEvents 2.0 for Joomla//EN
CALSCALE:GREGORIAN
METHOD:PUBLISH
BEGIN:VEVENT
UID:c32915a780575dce05db050b169a670f
CATEGORIES:Abt. Holzen
CREATED:20251214T105327
SUMMARY:Aufbau Holzversteigerung
DESCRIPTION:
DTSTAMP:20260420T112614
DTSTART;VALUE=DATE:20260123
DTEND;VALUE=DATE:20260124
SEQUENCE:0
TRANSP:OPAQUE
END:VEVENT
END:VCALENDAR