BEGIN:VCALENDAR
VERSION:2.0
PRODID:-//jEvents 2.0 for Joomla//EN
CALSCALE:GREGORIAN
METHOD:PUBLISH
BEGIN:VEVENT
UID:52269c7611c3ea9886e23d4410169bb0
CATEGORIES:Abt. Holzen
CREATED:20251214T104930
SUMMARY:Cego
DESCRIPTION:
DTSTAMP:20260420T171808
DTSTART;VALUE=DATE:20260109
DTEND;VALUE=DATE:20260110
SEQUENCE:0
TRANSP:OPAQUE
END:VEVENT
END:VCALENDAR