BEGIN:VCALENDAR
VERSION:2.0
PRODID:-//jEvents 2.0 for Joomla//EN
CALSCALE:GREGORIAN
METHOD:PUBLISH
BEGIN:VEVENT
UID:ec64f8bd5841e051daa82398b9e44ccf
CATEGORIES:Abt. Holzen
CREATED:20251214T104848
SUMMARY:Ausschusssitzung
DESCRIPTION:
DTSTAMP:20260420T143827
DTSTART;VALUE=DATE:20260108
DTEND;VALUE=DATE:20260109
SEQUENCE:0
TRANSP:OPAQUE
END:VEVENT
END:VCALENDAR