BEGIN:VCALENDAR
VERSION:2.0
PRODID:-//jEvents 2.0 for Joomla//EN
CALSCALE:GREGORIAN
METHOD:PUBLISH
BEGIN:VEVENT
UID:e7790fcdb03b52752e66198bea661abb
CATEGORIES:Abt. Feuerbach
CREATED:20250109T180129
SUMMARY:Weihnachtsfeier
DESCRIPTION:
DTSTAMP:20260420T120431
DTSTART:20251218T180000
SEQUENCE:0
TRANSP:OPAQUE
END:VEVENT
END:VCALENDAR