BEGIN:VCALENDAR
VERSION:2.0
PRODID:-//jEvents 2.0 for Joomla//EN
CALSCALE:GREGORIAN
METHOD:PUBLISH
BEGIN:VEVENT
UID:f62b1d2eeecc74e9f85753cf85a3f977
CATEGORIES:Abt. Feuerbach
CREATED:20250109T180112
SUMMARY:Ausschusssitzung
DESCRIPTION:
DTSTAMP:20260420T123832
DTSTART:20251127T190000
SEQUENCE:0
TRANSP:OPAQUE
END:VEVENT
END:VCALENDAR