BEGIN:VCALENDAR
VERSION:2.0
PRODID:-//jEvents 2.0 for Joomla//EN
CALSCALE:GREGORIAN
METHOD:PUBLISH
BEGIN:VEVENT
UID:0b3ba0606a28a8f9d359bb695f968621
CATEGORIES:Abt. Feuerbach
CREATED:20250109T180049
SUMMARY:Übung
DESCRIPTION:
DTSTAMP:20260420T164213
DTSTART:20251113T180000
SEQUENCE:0
TRANSP:OPAQUE
END:VEVENT
END:VCALENDAR