BEGIN:VCALENDAR
VERSION:2.0
PRODID:-//jEvents 2.0 for Joomla//EN
CALSCALE:GREGORIAN
METHOD:PUBLISH
BEGIN:VEVENT
UID:9af9f8eec32e7abcff7d8435f5dcb1b8
CATEGORIES:Abt. Feuerbach
CREATED:20250109T180034
SUMMARY:Übung
DESCRIPTION:
DTSTAMP:20260420T164223
DTSTART:20251009T170000
SEQUENCE:0
TRANSP:OPAQUE
END:VEVENT
END:VCALENDAR