BEGIN:VCALENDAR
VERSION:2.0
PRODID:-//jEvents 2.0 for Joomla//EN
CALSCALE:GREGORIAN
METHOD:PUBLISH
BEGIN:VEVENT
UID:1bcc3d99d2bbeeb75a9d55b52828cb23
CATEGORIES:Abt. Feuerbach
CREATED:20250109T180021
SUMMARY:LZ3 Übung Riedlingen
DESCRIPTION:
DTSTAMP:20260422T152026
DTSTART:20250926T170000
SEQUENCE:0
TRANSP:OPAQUE
END:VEVENT
END:VCALENDAR