BEGIN:VCALENDAR
VERSION:2.0
PRODID:-//jEvents 2.0 for Joomla//EN
CALSCALE:GREGORIAN
METHOD:PUBLISH
BEGIN:VEVENT
UID:51dd7751409baed66238348c90071d66
CATEGORIES:Abt. Feuerbach
CREATED:20250109T175938
SUMMARY:Übung
DESCRIPTION:
DTSTAMP:20260424T144751
DTSTART:20250717T170000
SEQUENCE:0
TRANSP:OPAQUE
END:VEVENT
END:VCALENDAR