BEGIN:VCALENDAR
VERSION:2.0
PRODID:-//jEvents 2.0 for Joomla//EN
CALSCALE:GREGORIAN
METHOD:PUBLISH
BEGIN:VEVENT
UID:de3c308e484ba972ef7cc96f87aa4408
CATEGORIES:Abt. Feuerbach
CREATED:20250109T175859
SUMMARY:Jubiläum Feuerbach
DESCRIPTION:
DTSTAMP:20260422T185336
DTSTART;VALUE=DATE:20250712
DTEND;VALUE=DATE:20250714
SEQUENCE:0
TRANSP:OPAQUE
END:VEVENT
END:VCALENDAR