BEGIN:VCALENDAR
VERSION:2.0
PRODID:-//jEvents 2.0 for Joomla//EN
CALSCALE:GREGORIAN
METHOD:PUBLISH
BEGIN:VEVENT
UID:907f606c0f4a544f06431097fff047a3
CATEGORIES:Abt. Feuerbach
CREATED:20250109T175839
SUMMARY:Zelt Aufbau
DESCRIPTION:
DTSTAMP:20260424T144823
DTSTART:20250711T160000
SEQUENCE:0
TRANSP:OPAQUE
END:VEVENT
END:VCALENDAR