BEGIN:VCALENDAR
VERSION:2.0
PRODID:-//jEvents 2.0 for Joomla//EN
CALSCALE:GREGORIAN
METHOD:PUBLISH
BEGIN:VEVENT
UID:a3145dfb2cbb51fe93ee90b5fdd2ad87
CATEGORIES:Abt. Feuerbach
CREATED:20250109T175802
SUMMARY:Übung
DESCRIPTION:
DTSTAMP:20260422T110511
DTSTART:20250612T170000
SEQUENCE:0
TRANSP:OPAQUE
END:VEVENT
END:VCALENDAR