BEGIN:VCALENDAR
VERSION:2.0
PRODID:-//jEvents 2.0 for Joomla//EN
CALSCALE:GREGORIAN
METHOD:PUBLISH
BEGIN:VEVENT
UID:ff071345a875b96fda8995a2575c9aa6
CATEGORIES:Abt. Feuerbach
CREATED:20250109T175745
SUMMARY:Abbau Buckfest
DESCRIPTION:
DTSTAMP:20260422T180454
DTSTART:20250530T080000
SEQUENCE:0
TRANSP:OPAQUE
END:VEVENT
END:VCALENDAR