BEGIN:VCALENDAR
VERSION:2.0
PRODID:-//jEvents 2.0 for Joomla//EN
CALSCALE:GREGORIAN
METHOD:PUBLISH
BEGIN:VEVENT
UID:4d420c6920cb261a79c4698442bc2ec8
CATEGORIES:Abt. Feuerbach
CREATED:20250109T175723
SUMMARY:Buckfest
DESCRIPTION:
DTSTAMP:20260422T152640
DTSTART:20250529T080000
SEQUENCE:0
TRANSP:OPAQUE
END:VEVENT
END:VCALENDAR