BEGIN:VCALENDAR
VERSION:2.0
PRODID:-//jEvents 2.0 for Joomla//EN
CALSCALE:GREGORIAN
METHOD:PUBLISH
BEGIN:VEVENT
UID:6cfe4b814b056c9c60aa7478eecc877d
CATEGORIES:Abt. Feuerbach
CREATED:20250109T175659
SUMMARY:Aufbau Zelt
DESCRIPTION:
DTSTAMP:20260422T164643
DTSTART:20250528T160000
SEQUENCE:0
TRANSP:OPAQUE
END:VEVENT
END:VCALENDAR