BEGIN:VCALENDAR
VERSION:2.0
PRODID:-//jEvents 2.0 for Joomla//EN
CALSCALE:GREGORIAN
METHOD:PUBLISH
BEGIN:VEVENT
UID:79f88b8f6d5f511df6c807d8383693bd
CATEGORIES:Abt. Feuerbach
CREATED:20250109T175635
SUMMARY:Wagen laden
DESCRIPTION:
DTSTAMP:20260420T181340
DTSTART:20250527T160000
SEQUENCE:0
TRANSP:OPAQUE
END:VEVENT
END:VCALENDAR