BEGIN:VCALENDAR
VERSION:2.0
PRODID:-//jEvents 2.0 for Joomla//EN
CALSCALE:GREGORIAN
METHOD:PUBLISH
BEGIN:VEVENT
UID:7740af3934a645aa578878649b9ce8fd
CATEGORIES:Abt. Feuerbach
CREATED:20250109T175610
SUMMARY:Übung
DESCRIPTION:
DTSTAMP:20260422T165552
DTSTART:20250515T170000
SEQUENCE:0
TRANSP:OPAQUE
END:VEVENT
END:VCALENDAR