BEGIN:VCALENDAR
VERSION:2.0
PRODID:-//jEvents 2.0 for Joomla//EN
CALSCALE:GREGORIAN
METHOD:PUBLISH
BEGIN:VEVENT
UID:ed7119c043c17c53d0e91ba0d1ed50b7
CATEGORIES:Abt. Feuerbach
CREATED:20250109T175551
SUMMARY:Maibaum stellen
DESCRIPTION:
DTSTAMP:20260422T164831
DTSTART:20250430T160000
SEQUENCE:0
TRANSP:OPAQUE
END:VEVENT
END:VCALENDAR