BEGIN:VCALENDAR
VERSION:2.0
PRODID:-//jEvents 2.0 for Joomla//EN
CALSCALE:GREGORIAN
METHOD:PUBLISH
BEGIN:VEVENT
UID:769fd4c3c7989cc1ae4b6a1d4b60c016
CATEGORIES:Abt. Feuerbach
CREATED:20250109T175535
SUMMARY:LZ3 Übung
DESCRIPTION:
DTSTAMP:20260422T152635
DTSTART:20250425T170000
SEQUENCE:0
TRANSP:OPAQUE
END:VEVENT
END:VCALENDAR