BEGIN:VCALENDAR
VERSION:2.0
PRODID:-//jEvents 2.0 for Joomla//EN
CALSCALE:GREGORIAN
METHOD:PUBLISH
BEGIN:VEVENT
UID:15b17de022036cb436912ccbd3256452
CATEGORIES:Abt. Feuerbach
CREATED:20250109T175515
SUMMARY:Übung
DESCRIPTION:
DTSTAMP:20260420T104246
DTSTART:20250410T170000
SEQUENCE:0
TRANSP:OPAQUE
END:VEVENT
END:VCALENDAR