BEGIN:VCALENDAR
VERSION:2.0
PRODID:-//jEvents 2.0 for Joomla//EN
CALSCALE:GREGORIAN
METHOD:PUBLISH
BEGIN:VEVENT
UID:f02b594ee90f357a4fdb212306f17d86
CATEGORIES:Abt. Feuerbach
CREATED:20250109T175506
SUMMARY:Ausschusssitzung
DESCRIPTION:
DTSTAMP:20260422T195752
DTSTART:20250403T170000
SEQUENCE:0
TRANSP:OPAQUE
END:VEVENT
END:VCALENDAR