BEGIN:VCALENDAR
VERSION:2.0
PRODID:-//jEvents 2.0 for Joomla//EN
CALSCALE:GREGORIAN
METHOD:PUBLISH
BEGIN:VEVENT
UID:38e170276fd4cf46736da4d5b64aa8c4
CATEGORIES:Abt. Feuerbach
CREATED:20250109T174304
SUMMARY:Übung
DESCRIPTION:
DTSTAMP:20260420T164149
DTSTART:20250313T180000
SEQUENCE:0
TRANSP:OPAQUE
END:VEVENT
END:VCALENDAR