BEGIN:VCALENDAR
VERSION:2.0
PRODID:-//jEvents 2.0 for Joomla//EN
CALSCALE:GREGORIAN
METHOD:PUBLISH
BEGIN:VEVENT
UID:c22a1b5fe5e39ea2b552ca2e5a673feb
CATEGORIES:Abt. Feuerbach
CREATED:20250109T174243
SUMMARY:Abbau Scheibenfeuer
DESCRIPTION:
DTSTAMP:20260420T135913
DTSTART:20250309T090000
SEQUENCE:0
TRANSP:OPAQUE
END:VEVENT
END:VCALENDAR