BEGIN:VCALENDAR
VERSION:2.0
PRODID:-//jEvents 2.0 for Joomla//EN
CALSCALE:GREGORIAN
METHOD:PUBLISH
BEGIN:VEVENT
UID:37fbb1123eb3da05b077641f8bb72565
CATEGORIES:Abt. Feuerbach
CREATED:20250109T174203
SUMMARY:Übung
DESCRIPTION:
DTSTAMP:20260420T135556
DTSTART:20250213T180000
SEQUENCE:0
TRANSP:OPAQUE
END:VEVENT
END:VCALENDAR