BEGIN:VCALENDAR
VERSION:2.0
PRODID:-//jEvents 2.0 for Joomla//EN
CALSCALE:GREGORIAN
METHOD:PUBLISH
BEGIN:VEVENT
UID:c5525d5acbe49ccfdfa08b00ff4a19b3
CATEGORIES:Abt. Feuerbach
CREATED:20250109T174147
SUMMARY:Abteilungsversammlung
DESCRIPTION:
DTSTAMP:20260420T181330
DTSTART:20250201T180000
SEQUENCE:0
TRANSP:OPAQUE
END:VEVENT
END:VCALENDAR