BEGIN:VCALENDAR
VERSION:2.0
PRODID:-//jEvents 2.0 for Joomla//EN
CALSCALE:GREGORIAN
METHOD:PUBLISH
BEGIN:VEVENT
UID:7d3a4b23d635a810d5ac5222f85ab000
CATEGORIES:Abt. Feuerbach
CREATED:20250109T174123
SUMMARY:Übung
DESCRIPTION:
DTSTAMP:20260420T135641
DTSTART:20250116T180000
SEQUENCE:0
TRANSP:OPAQUE
END:VEVENT
END:VCALENDAR