BEGIN:VCALENDAR
VERSION:2.0
PRODID:-//jEvents 2.0 for Joomla//EN
CALSCALE:GREGORIAN
METHOD:PUBLISH
BEGIN:VEVENT
UID:919f09387aa8e8a6b47e3fa0cf44e8cb
CATEGORIES:JF Wollbach
CREATED:20250108T195133
SUMMARY:Tannenbäume sammeln + gelbe Säcke
DESCRIPTION:
DTSTAMP:20260420T181430
DTSTART:20260110T064500
SEQUENCE:0
TRANSP:OPAQUE
END:VEVENT
END:VCALENDAR