BEGIN:VCALENDAR
VERSION:2.0
PRODID:-//jEvents 2.0 for Joomla//EN
CALSCALE:GREGORIAN
METHOD:PUBLISH
BEGIN:VEVENT
UID:309b4b9e97827617bbb7398d02d5eea6
CATEGORIES:JF Wollbach
CREATED:20250108T195039
SUMMARY:Abschlussessen
DESCRIPTION:
DTSTAMP:20260420T202400
DTSTART;VALUE=DATE:20251210
DTEND;VALUE=DATE:20251211
SEQUENCE:0
TRANSP:OPAQUE
END:VEVENT
END:VCALENDAR