BEGIN:VCALENDAR
VERSION:2.0
PRODID:-//jEvents 2.0 for Joomla//EN
CALSCALE:GREGORIAN
METHOD:PUBLISH
BEGIN:VEVENT
UID:58e19a5aea13eb7d485215dbbd4c21c6
CATEGORIES:JF Wollbach
CREATED:20250108T195014
SUMMARY:Jahresabschlussversammlung
DESCRIPTION:
DTSTAMP:20260422T103029
DTSTART:20251128T183000
SEQUENCE:0
TRANSP:OPAQUE
END:VEVENT
END:VCALENDAR