BEGIN:VCALENDAR
VERSION:2.0
PRODID:-//jEvents 2.0 for Joomla//EN
CALSCALE:GREGORIAN
METHOD:PUBLISH
BEGIN:VEVENT
UID:e9498e3bc437dcee6739774527d19dce
CATEGORIES:JF Wollbach
CREATED:20250108T194948
SUMMARY:Übung Planung Weihnachtsfeier
DESCRIPTION:
DTSTAMP:20260422T110453
DTSTART:20251126T173000
SEQUENCE:0
TRANSP:OPAQUE
END:VEVENT
END:VCALENDAR