BEGIN:VCALENDAR
VERSION:2.0
PRODID:-//jEvents 2.0 for Joomla//EN
CALSCALE:GREGORIAN
METHOD:PUBLISH
BEGIN:VEVENT
UID:bc28bb044c7985beeafb4b5c8476b017
CATEGORIES:JF Wollbach
CREATED:20250108T194935
SUMMARY:Übung Planung Weihnachtsfeier
DESCRIPTION:
DTSTAMP:20260420T104259
DTSTART:20251119T173000
SEQUENCE:0
TRANSP:OPAQUE
END:VEVENT
END:VCALENDAR