BEGIN:VCALENDAR
VERSION:2.0
PRODID:-//jEvents 2.0 for Joomla//EN
CALSCALE:GREGORIAN
METHOD:PUBLISH
BEGIN:VEVENT
UID:d83573139b6647e09f7d585d1dc3c014
CATEGORIES:JF Wollbach
CREATED:20250108T194845
SUMMARY:Übung
DESCRIPTION:
DTSTAMP:20260420T104249
DTSTART:20251105T180000
SEQUENCE:0
TRANSP:OPAQUE
END:VEVENT
END:VCALENDAR