BEGIN:VCALENDAR
VERSION:2.0
PRODID:-//jEvents 2.0 for Joomla//EN
CALSCALE:GREGORIAN
METHOD:PUBLISH
BEGIN:VEVENT
UID:0760b99a118d8b350ce2552d0327676b
CATEGORIES:JF Wollbach
CREATED:20250108T194832
SUMMARY:Abschlussübung mit Abt. Wollbach
DESCRIPTION:
DTSTAMP:20260422T173638
DTSTART:20251102T090000
SEQUENCE:0
TRANSP:OPAQUE
END:VEVENT
END:VCALENDAR